Package: qusage Version: 2.41.0 Command: /home/biocbuild/R/R/bin/R CMD build --keep-empty-dirs --no-resave-data qusage StartedAt: 2025-01-29 01:27:58 -0000 (Wed, 29 Jan 2025) EndedAt: 2025-01-29 01:38:49 -0000 (Wed, 29 Jan 2025) EllapsedTime: 651.3 seconds RetCode: 0 Status: OK PackageFile: qusage_2.41.0.tar.gz PackageFileSize: 9.666 MiB