Package: qusage Version: 2.41.0 Command: /home/biocbuild/R/R/bin/R CMD check --install=check:qusage.install-out.txt --library=/home/biocbuild/R/R/site-library --no-vignettes --timings qusage_2.41.0.tar.gz StartedAt: 2025-01-28 14:15:37 -0000 (Tue, 28 Jan 2025) EndedAt: 2025-01-28 14:17:27 -0000 (Tue, 28 Jan 2025) EllapsedTime: 110.1 seconds RetCode: 0 Status: OK CheckDir: qusage.Rcheck Warnings: 0