Package: qusage Version: 2.41.0 Command: /home/biocbuild/R/R/bin/R CMD INSTALL qusage StartedAt: 2025-01-29 19:36:08 -0000 (Wed, 29 Jan 2025) EndedAt: 2025-01-29 19:36:24 -0000 (Wed, 29 Jan 2025) EllapsedTime: 15.8 seconds RetCode: 0 Status: OK