Package: qusage Version: 2.41.0 Command: rm -rf qusage.buildbin-libdir && mkdir qusage.buildbin-libdir && /Users/biocbuild/BBS/utils/build-universal.sh qusage_2.41.0.tar.gz /Library/Frameworks/R.framework/Resources/bin/R qusage.buildbin-libdir StartedAt: 2025-02-04 00:50:18 -0500 (Tue, 04 Feb 2025) EndedAt: 2025-02-04 00:50:34 -0500 (Tue, 04 Feb 2025) EllapsedTime: 16.0 seconds RetCode: 0 Status: OK PackageFile: qusage_2.41.0.tgz PackageFileSize: 9.832 MiB