Package: qusage Version: 2.41.0 Command: /home/biocbuild/bbs-3.21-bioc/R/bin/R CMD build --keep-empty-dirs --no-resave-data qusage StartedAt: 2025-02-03 18:55:58 -0500 (Mon, 03 Feb 2025) EndedAt: 2025-02-03 19:00:54 -0500 (Mon, 03 Feb 2025) EllapsedTime: 296.3 seconds RetCode: 0 Status: OK PackageFile: qusage_2.41.0.tar.gz PackageFileSize: 9.648 MiB