Package: qusage Version: 2.41.0 Command: /home/biocbuild/bbs-3.21-bioc/R/bin/R CMD check --install=check:qusage.install-out.txt --library=/home/biocbuild/bbs-3.21-bioc/R/site-library --timings qusage_2.41.0.tar.gz StartedAt: 2025-02-04 01:45:19 -0500 (Tue, 04 Feb 2025) EndedAt: 2025-02-04 01:51:32 -0500 (Tue, 04 Feb 2025) EllapsedTime: 372.8 seconds RetCode: 0 Status: OK CheckDir: qusage.Rcheck Warnings: 0