Package: qusage Version: 2.41.0 Command: /home/biocbuild/bbs-3.21-bioc/R/bin/R CMD INSTALL qusage StartedAt: 2025-02-09 15:12:19 -0500 (Sun, 09 Feb 2025) EndedAt: 2025-02-09 15:12:28 -0500 (Sun, 09 Feb 2025) EllapsedTime: 8.6 seconds RetCode: 0 Status: OK