Package: qusage Version: 2.41.0 Command: rm -rf qusage.buildbin-libdir && mkdir qusage.buildbin-libdir && E:\biocbuild\bbs-3.21-bioc\R\bin\R.exe CMD INSTALL --build --library=qusage.buildbin-libdir qusage_2.41.0.tar.gz StartedAt: 2025-02-10 08:27:45 -0500 (Mon, 10 Feb 2025) EndedAt: 2025-02-10 08:28:10 -0500 (Mon, 10 Feb 2025) EllapsedTime: 25.0 seconds RetCode: 0 Status: OK PackageFile: qusage_2.41.0.zip PackageFileSize: 9.665 MiB