Package: qusage Version: 2.41.0 Command: chmod a+r qusage -R && E:\biocbuild\bbs-3.21-bioc\R\bin\R.exe CMD build --keep-empty-dirs --no-resave-data qusage StartedAt: 2025-02-03 21:11:16 -0500 (Mon, 03 Feb 2025) EndedAt: 2025-02-03 21:18:17 -0500 (Mon, 03 Feb 2025) EllapsedTime: 421.0 seconds RetCode: 0 Status: OK PackageFile: qusage_2.41.0.tar.gz PackageFileSize: 9.5 MiB