Package: qusage Version: 2.41.0 Command: E:\biocbuild\bbs-3.21-bioc\R\bin\R.exe CMD INSTALL qusage StartedAt: 2025-02-03 15:42:08 -0500 (Mon, 03 Feb 2025) EndedAt: 2025-02-03 15:42:33 -0500 (Mon, 03 Feb 2025) EllapsedTime: 24.3 seconds RetCode: 0 Status: OK