Package: r3Cseq Version: 1.53.0 Command: /Library/Frameworks/R.framework/Resources/bin/R CMD build --keep-empty-dirs --no-resave-data r3Cseq StartedAt: 2025-02-09 17:19:33 -0500 (Sun, 09 Feb 2025) EndedAt: 2025-02-09 17:20:27 -0500 (Sun, 09 Feb 2025) EllapsedTime: 53.6 seconds RetCode: 0 Status: OK PackageFile: r3Cseq_1.53.0.tar.gz PackageFileSize: 4.327 MiB