Package: r3Cseq Version: 1.53.0 Command: /Library/Frameworks/R.framework/Resources/bin/R CMD check --install=check:r3Cseq.install-out.txt --library=/Library/Frameworks/R.framework/Resources/library --no-vignettes --timings r3Cseq_1.53.0.tar.gz StartedAt: 2025-02-12 20:54:43 -0500 (Wed, 12 Feb 2025) EndedAt: 2025-02-12 20:56:22 -0500 (Wed, 12 Feb 2025) EllapsedTime: 99.2 seconds RetCode: 0 Status: OK CheckDir: r3Cseq.Rcheck Warnings: 0