Package: r3Cseq Version: 1.53.0 Command: /home/biocbuild/bbs-3.21-bioc/R/bin/R CMD build --keep-empty-dirs --no-resave-data r3Cseq StartedAt: 2025-02-09 18:47:40 -0500 (Sun, 09 Feb 2025) EndedAt: 2025-02-09 18:49:42 -0500 (Sun, 09 Feb 2025) EllapsedTime: 122.1 seconds RetCode: 0 Status: OK PackageFile: r3Cseq_1.53.0.tar.gz PackageFileSize: 4.327 MiB