Package: r3Cseq Version: 1.53.0 Command: E:\biocbuild\bbs-3.21-bioc\R\bin\R.exe CMD check --no-multiarch --install=check:r3Cseq.install-out.txt --library=E:\biocbuild\bbs-3.21-bioc\R\library --no-vignettes --timings r3Cseq_1.53.0.tar.gz StartedAt: 2025-02-13 04:35:27 -0500 (Thu, 13 Feb 2025) EndedAt: 2025-02-13 04:40:09 -0500 (Thu, 13 Feb 2025) EllapsedTime: 281.9 seconds RetCode: 0 Status: OK CheckDir: r3Cseq.Rcheck Warnings: 0