Package: rBLAST Version: 1.3.1 Command: /Library/Frameworks/R.framework/Resources/bin/R CMD build --keep-empty-dirs --no-resave-data rBLAST StartedAt: 2025-02-04 17:21:03 -0500 (Tue, 04 Feb 2025) EndedAt: 2025-02-04 17:21:10 -0500 (Tue, 04 Feb 2025) EllapsedTime: 7.1 seconds RetCode: 0 Status: OK PackageFile: rBLAST_1.3.1.tar.gz PackageFileSize: 24.71 KiB