Package: rBLAST Version: 1.3.1 Command: /home/biocbuild/R/R/bin/R CMD build --keep-empty-dirs --no-resave-data rBLAST StartedAt: 2025-01-29 01:31:30 -0000 (Wed, 29 Jan 2025) EndedAt: 2025-01-29 01:31:49 -0000 (Wed, 29 Jan 2025) EllapsedTime: 19.0 seconds RetCode: 0 Status: OK PackageFile: rBLAST_1.3.1.tar.gz PackageFileSize: 25.62 KiB