Package: rBLAST Version: 1.3.1 Command: /Library/Frameworks/R.framework/Resources/bin/R CMD build --keep-empty-dirs --no-resave-data rBLAST StartedAt: 2025-02-09 18:05:35 -0500 (Sun, 09 Feb 2025) EndedAt: 2025-02-09 18:05:53 -0500 (Sun, 09 Feb 2025) EllapsedTime: 18.3 seconds RetCode: 0 Status: OK PackageFile: rBLAST_1.3.1.tar.gz PackageFileSize: 24.77 KiB