Package: rBLAST Version: 1.3.1 Command: /Library/Frameworks/R.framework/Resources/bin/R CMD check --install=check:rBLAST.install-out.txt --library=/Library/Frameworks/R.framework/Resources/library --no-vignettes --timings rBLAST_1.3.1.tar.gz StartedAt: 2025-02-09 22:59:01 -0500 (Sun, 09 Feb 2025) EndedAt: 2025-02-09 23:00:34 -0500 (Sun, 09 Feb 2025) EllapsedTime: 93.0 seconds RetCode: 0 Status: OK CheckDir: rBLAST.Rcheck Warnings: 0