Package: rBLAST Version: 1.3.1 Command: E:\biocbuild\bbs-3.21-bioc\R\bin\R.exe CMD check --no-multiarch --install=check:rBLAST.install-out.txt --library=E:\biocbuild\bbs-3.21-bioc\R\library --no-vignettes --timings rBLAST_1.3.1.tar.gz StartedAt: 2025-02-04 04:57:39 -0500 (Tue, 04 Feb 2025) EndedAt: 2025-02-04 04:59:17 -0500 (Tue, 04 Feb 2025) EllapsedTime: 97.8 seconds RetCode: 0 Status: OK CheckDir: rBLAST.Rcheck Warnings: 0