Package: rBiopaxParser Version: 2.47.0 Command: /Library/Frameworks/R.framework/Resources/bin/R CMD check --install=check:rBiopaxParser.install-out.txt --library=/Library/Frameworks/R.framework/Resources/library --no-vignettes --timings rBiopaxParser_2.47.0.tar.gz StartedAt: 2025-02-12 20:56:37 -0500 (Wed, 12 Feb 2025) EndedAt: 2025-02-12 20:56:56 -0500 (Wed, 12 Feb 2025) EllapsedTime: 19.3 seconds RetCode: 0 Status: OK CheckDir: rBiopaxParser.Rcheck Warnings: 0