Package: rBiopaxParser Version: 2.47.0 Command: /Library/Frameworks/R.framework/Resources/bin/R CMD INSTALL rBiopaxParser StartedAt: 2025-02-12 15:01:25 -0500 (Wed, 12 Feb 2025) EndedAt: 2025-02-12 15:01:30 -0500 (Wed, 12 Feb 2025) EllapsedTime: 4.9 seconds RetCode: 0 Status: OK