Package: rBiopaxParser Version: 2.47.0 Command: /Library/Frameworks/R.framework/Resources/bin/R CMD check --install=check:rBiopaxParser.install-out.txt --library=/Library/Frameworks/R.framework/Resources/library --no-vignettes --timings rBiopaxParser_2.47.0.tar.gz StartedAt: 2025-02-09 22:58:53 -0500 (Sun, 09 Feb 2025) EndedAt: 2025-02-09 22:59:54 -0500 (Sun, 09 Feb 2025) EllapsedTime: 61.4 seconds RetCode: 0 Status: OK CheckDir: rBiopaxParser.Rcheck Warnings: 0