Package: rBiopaxParser Version: 2.47.0 Command: E:\biocbuild\bbs-3.21-bioc\R\bin\R.exe CMD check --no-multiarch --install=check:rBiopaxParser.install-out.txt --library=E:\biocbuild\bbs-3.21-bioc\R\library --no-vignettes --timings rBiopaxParser_2.47.0.tar.gz StartedAt: 2025-02-10 04:30:32 -0500 (Mon, 10 Feb 2025) EndedAt: 2025-02-10 04:31:44 -0500 (Mon, 10 Feb 2025) EllapsedTime: 72.3 seconds RetCode: 0 Status: OK CheckDir: rBiopaxParser.Rcheck Warnings: 0