Package: rCGH Version: 1.37.0 Command: /Library/Frameworks/R.framework/Resources/bin/R CMD INSTALL rCGH StartedAt: 2025-02-12 15:22:09 -0500 (Wed, 12 Feb 2025) EndedAt: 2025-02-12 15:22:28 -0500 (Wed, 12 Feb 2025) EllapsedTime: 18.5 seconds RetCode: 0 Status: OK