Package: rCGH Version: 1.37.0 Command: rm -rf rCGH.buildbin-libdir && mkdir rCGH.buildbin-libdir && /Users/biocbuild/BBS/utils/build-universal.sh rCGH_1.37.0.tar.gz /Library/Frameworks/R.framework/Resources/bin/R rCGH.buildbin-libdir StartedAt: 2025-02-10 01:10:42 -0500 (Mon, 10 Feb 2025) EndedAt: 2025-02-10 01:11:48 -0500 (Mon, 10 Feb 2025) EllapsedTime: 65.2 seconds RetCode: 0 Status: OK PackageFile: rCGH_1.37.0.tgz PackageFileSize: 4.89 MiB