Package: rCGH Version: 1.37.0 Command: /Library/Frameworks/R.framework/Resources/bin/R CMD check --install=check:rCGH.install-out.txt --library=/Library/Frameworks/R.framework/Resources/library --no-vignettes --timings rCGH_1.37.0.tar.gz StartedAt: 2025-02-12 22:44:48 -0500 (Wed, 12 Feb 2025) EndedAt: 2025-02-12 22:52:06 -0500 (Wed, 12 Feb 2025) EllapsedTime: 438.2 seconds RetCode: 0 Status: OK CheckDir: rCGH.Rcheck Warnings: 0