Package: rCGH Version: 1.37.0 Command: rm -rf rCGH.buildbin-libdir && mkdir rCGH.buildbin-libdir && E:\biocbuild\bbs-3.21-bioc\R\bin\R.exe CMD INSTALL --build --library=rCGH.buildbin-libdir rCGH_1.37.0.tar.gz StartedAt: 2025-02-13 08:40:00 -0500 (Thu, 13 Feb 2025) EndedAt: 2025-02-13 08:41:21 -0500 (Thu, 13 Feb 2025) EllapsedTime: 81.7 seconds RetCode: 0 Status: OK PackageFile: rCGH_1.37.0.zip PackageFileSize: 4.779 MiB