Package: rGADEM Version: 2.55.0 Command: rm -rf rGADEM.buildbin-libdir && mkdir rGADEM.buildbin-libdir && /Users/biocbuild/BBS/utils/build-universal.sh rGADEM_2.55.0.tar.gz /Library/Frameworks/R.framework/Resources/bin/R rGADEM.buildbin-libdir StartedAt: 2025-02-03 23:03:07 -0500 (Mon, 03 Feb 2025) EndedAt: 2025-02-03 23:03:30 -0500 (Mon, 03 Feb 2025) EllapsedTime: 22.4 seconds RetCode: 0 Status: OK PackageFile: rGADEM_2.55.0.tgz PackageFileSize: 680.2 KiB