Package: rGADEM Version: 2.55.0 Command: /Library/Frameworks/R.framework/Resources/bin/R CMD check --install=check:rGADEM.install-out.txt --library=/Library/Frameworks/R.framework/Resources/library --no-vignettes --timings rGADEM_2.55.0.tar.gz StartedAt: 2025-02-03 21:33:17 -0500 (Mon, 03 Feb 2025) EndedAt: 2025-02-03 21:34:43 -0500 (Mon, 03 Feb 2025) EllapsedTime: 86.3 seconds RetCode: 0 Status: WARNINGS CheckDir: rGADEM.Rcheck Warnings: 1