Package: rGADEM Version: 2.55.0 Command: /home/biocbuild/R/R/bin/R CMD INSTALL rGADEM StartedAt: 2025-01-29 19:54:32 -0000 (Wed, 29 Jan 2025) EndedAt: 2025-01-29 19:54:39 -0000 (Wed, 29 Jan 2025) EllapsedTime: 6.7 seconds RetCode: 1 Status: ERROR