Package: rGADEM Version: 2.55.0 Command: /Library/Frameworks/R.framework/Resources/bin/R CMD build --keep-empty-dirs --no-resave-data rGADEM StartedAt: 2025-02-09 18:09:23 -0500 (Sun, 09 Feb 2025) EndedAt: 2025-02-09 18:10:33 -0500 (Sun, 09 Feb 2025) EllapsedTime: 69.9 seconds RetCode: 1 Status: ERROR PackageFile: None PackageFileSize: NA