Package: rGADEM Version: 2.55.0 Command: /Library/Frameworks/R.framework/Resources/bin/R CMD INSTALL rGADEM StartedAt: 2025-02-09 15:19:26 -0500 (Sun, 09 Feb 2025) EndedAt: 2025-02-09 15:20:32 -0500 (Sun, 09 Feb 2025) EllapsedTime: 66.6 seconds RetCode: 0 Status: OK