Package: rGADEM Version: 2.55.0 Command: chmod a+r rGADEM -R && E:\biocbuild\bbs-3.21-bioc\R\bin\R.exe CMD build --keep-empty-dirs --no-resave-data rGADEM StartedAt: 2025-02-04 21:11:36 -0500 (Tue, 04 Feb 2025) EndedAt: 2025-02-04 21:14:52 -0500 (Tue, 04 Feb 2025) EllapsedTime: 196.0 seconds RetCode: 0 Status: OK PackageFile: rGADEM_2.55.0.tar.gz PackageFileSize: 225 KiB