Package: rGREAT Version: 2.9.0 Command: /home/biocbuild/R/R/bin/R CMD INSTALL rGREAT StartedAt: 2025-01-29 20:06:12 -0000 (Wed, 29 Jan 2025) EndedAt: 2025-01-29 20:07:16 -0000 (Wed, 29 Jan 2025) EllapsedTime: 64.1 seconds RetCode: 0 Status: OK