Package: rGREAT Version: 2.9.0 Command: /Library/Frameworks/R.framework/Resources/bin/R CMD build --keep-empty-dirs --no-resave-data rGREAT StartedAt: 2025-02-04 18:02:23 -0500 (Tue, 04 Feb 2025) EndedAt: 2025-02-04 18:03:18 -0500 (Tue, 04 Feb 2025) EllapsedTime: 54.8 seconds RetCode: 0 Status: OK PackageFile: rGREAT_2.9.0.tar.gz PackageFileSize: 2.755 MiB