Package: rGREAT Version: 2.9.0 Command: /home/biocbuild/bbs-3.21-bioc/R/bin/R CMD INSTALL rGREAT StartedAt: 2025-02-09 15:57:49 -0500 (Sun, 09 Feb 2025) EndedAt: 2025-02-09 15:58:36 -0500 (Sun, 09 Feb 2025) EllapsedTime: 46.6 seconds RetCode: 0 Status: OK