Package: rGREAT Version: 2.9.0 Command: rm -rf rGREAT.buildbin-libdir && mkdir rGREAT.buildbin-libdir && E:\biocbuild\bbs-3.21-bioc\R\bin\R.exe CMD INSTALL --build --library=rGREAT.buildbin-libdir rGREAT_2.9.0.tar.gz StartedAt: 2025-02-05 08:43:43 -0500 (Wed, 05 Feb 2025) EndedAt: 2025-02-05 08:45:04 -0500 (Wed, 05 Feb 2025) EllapsedTime: 80.6 seconds RetCode: 0 Status: OK PackageFile: rGREAT_2.9.0.zip PackageFileSize: 3.733 MiB