Package: rRDP Version: 1.41.0 Command: /Library/Frameworks/R.framework/Resources/bin/R CMD build --keep-empty-dirs --no-resave-data rRDP StartedAt: 2025-02-12 17:27:41 -0500 (Wed, 12 Feb 2025) EndedAt: 2025-02-12 17:27:51 -0500 (Wed, 12 Feb 2025) EllapsedTime: 10.1 seconds RetCode: 0 Status: OK PackageFile: rRDP_1.41.0.tar.gz PackageFileSize: 2.594 MiB