Package: rRDP Version: 1.41.0 Command: /home/biocbuild/R/R/bin/R CMD build --keep-empty-dirs --no-resave-data rRDP StartedAt: 2025-01-29 01:51:41 -0000 (Wed, 29 Jan 2025) EndedAt: 2025-01-29 01:52:10 -0000 (Wed, 29 Jan 2025) EllapsedTime: 29.0 seconds RetCode: 0 Status: OK PackageFile: rRDP_1.41.0.tar.gz PackageFileSize: 2.595 MiB