Package: rRDP Version: 1.41.0 Command: /home/biocbuild/R/R/bin/R CMD check --install=check:rRDP.install-out.txt --library=/home/biocbuild/R/R/site-library --no-vignettes --timings rRDP_1.41.0.tar.gz StartedAt: 2025-01-28 14:45:10 -0000 (Tue, 28 Jan 2025) EndedAt: 2025-01-28 14:46:59 -0000 (Tue, 28 Jan 2025) EllapsedTime: 109.2 seconds RetCode: 0 Status: OK CheckDir: rRDP.Rcheck Warnings: 0