Package: rRDP Version: 1.41.0 Command: /home/biocbuild/R/R/bin/R CMD INSTALL rRDP StartedAt: 2025-01-29 19:38:56 -0000 (Wed, 29 Jan 2025) EndedAt: 2025-01-29 19:39:11 -0000 (Wed, 29 Jan 2025) EllapsedTime: 14.5 seconds RetCode: 0 Status: OK