Package: rRDP Version: 1.41.0 Command: /Library/Frameworks/R.framework/Resources/bin/R CMD build --keep-empty-dirs --no-resave-data rRDP StartedAt: 2025-02-09 18:14:17 -0500 (Sun, 09 Feb 2025) EndedAt: 2025-02-09 18:14:46 -0500 (Sun, 09 Feb 2025) EllapsedTime: 28.6 seconds RetCode: 0 Status: OK PackageFile: rRDP_1.41.0.tar.gz PackageFileSize: 2.594 MiB