Package: rRDP Version: 1.41.0 Command: /Library/Frameworks/R.framework/Resources/bin/R CMD check --install=check:rRDP.install-out.txt --library=/Library/Frameworks/R.framework/Resources/library --no-vignettes --timings rRDP_1.41.0.tar.gz StartedAt: 2025-02-09 23:14:32 -0500 (Sun, 09 Feb 2025) EndedAt: 2025-02-09 23:16:50 -0500 (Sun, 09 Feb 2025) EllapsedTime: 138.1 seconds RetCode: 0 Status: OK CheckDir: rRDP.Rcheck Warnings: 0