Package: rRDP Version: 1.41.0 Command: /home/biocbuild/bbs-3.21-bioc/R/bin/R CMD check --install=check:rRDP.install-out.txt --library=/home/biocbuild/bbs-3.21-bioc/R/site-library --timings rRDP_1.41.0.tar.gz StartedAt: 2025-02-10 02:06:25 -0500 (Mon, 10 Feb 2025) EndedAt: 2025-02-10 02:07:59 -0500 (Mon, 10 Feb 2025) EllapsedTime: 94.1 seconds RetCode: 0 Status: OK CheckDir: rRDP.Rcheck Warnings: 0