Package: rSWeeP Version: 1.19.1 Command: rm -rf rSWeeP.buildbin-libdir && mkdir rSWeeP.buildbin-libdir && /Users/biocbuild/BBS/utils/build-universal.sh rSWeeP_1.19.1.tar.gz /Library/Frameworks/R.framework/Resources/bin/R rSWeeP.buildbin-libdir StartedAt: 2025-02-09 22:28:47 -0500 (Sun, 09 Feb 2025) EndedAt: 2025-02-09 22:28:52 -0500 (Sun, 09 Feb 2025) EllapsedTime: 5.1 seconds RetCode: 0 Status: OK PackageFile: rSWeeP_1.19.1.tgz PackageFileSize: 461.1 KiB