Package: rSWeeP Version: 1.19.1 Command: /Library/Frameworks/R.framework/Resources/bin/R CMD check --install=check:rSWeeP.install-out.txt --library=/Library/Frameworks/R.framework/Resources/library --no-vignettes --timings rSWeeP_1.19.1.tar.gz StartedAt: 2025-02-09 21:05:06 -0500 (Sun, 09 Feb 2025) EndedAt: 2025-02-09 21:05:45 -0500 (Sun, 09 Feb 2025) EllapsedTime: 39.5 seconds RetCode: 0 Status: OK CheckDir: rSWeeP.Rcheck Warnings: 0