Package: rSWeeP Version: 1.19.1 Command: /Library/Frameworks/R.framework/Resources/bin/R CMD INSTALL rSWeeP StartedAt: 2025-02-03 15:16:08 -0500 (Mon, 03 Feb 2025) EndedAt: 2025-02-03 15:16:26 -0500 (Mon, 03 Feb 2025) EllapsedTime: 17.5 seconds RetCode: 0 Status: OK