Package: rSWeeP Version: 1.19.1 Command: rm -rf rSWeeP.buildbin-libdir && mkdir rSWeeP.buildbin-libdir && E:\biocbuild\bbs-3.21-bioc\R\bin\R.exe CMD INSTALL --build --library=rSWeeP.buildbin-libdir rSWeeP_1.19.1.tar.gz StartedAt: 2025-02-10 08:36:12 -0500 (Mon, 10 Feb 2025) EndedAt: 2025-02-10 08:36:27 -0500 (Mon, 10 Feb 2025) EllapsedTime: 15.0 seconds RetCode: 0 Status: OK PackageFile: rSWeeP_1.19.1.zip PackageFileSize: 411.1 KiB