Package: rSWeeP Version: 1.19.1 Command: E:\biocbuild\bbs-3.21-bioc\R\bin\R.exe CMD check --no-multiarch --install=check:rSWeeP.install-out.txt --library=E:\biocbuild\bbs-3.21-bioc\R\library --no-vignettes --timings rSWeeP_1.19.1.tar.gz StartedAt: 2025-02-10 04:55:31 -0500 (Mon, 10 Feb 2025) EndedAt: 2025-02-10 04:57:41 -0500 (Mon, 10 Feb 2025) EllapsedTime: 129.2 seconds RetCode: 0 Status: OK CheckDir: rSWeeP.Rcheck Warnings: 0