Package: rSWeeP Version: 1.19.1 Command: E:\biocbuild\bbs-3.21-bioc\R\bin\R.exe CMD INSTALL rSWeeP StartedAt: 2025-02-09 15:45:56 -0500 (Sun, 09 Feb 2025) EndedAt: 2025-02-09 15:46:21 -0500 (Sun, 09 Feb 2025) EllapsedTime: 24.5 seconds RetCode: 0 Status: OK